BEGIN:VCALENDAR
VERSION:2.0
PRODID:-//Firefighters Burn Institute - ECPv6.15.17//NONSGML v1.0//EN
CALSCALE:GREGORIAN
METHOD:PUBLISH
X-ORIGINAL-URL:https://ffburn.org
X-WR-CALDESC:Events for Firefighters Burn Institute
REFRESH-INTERVAL;VALUE=DURATION:PT1H
X-Robots-Tag:noindex
X-PUBLISHED-TTL:PT1H
BEGIN:VTIMEZONE
TZID:America/Los_Angeles
BEGIN:DAYLIGHT
TZOFFSETFROM:-0800
TZOFFSETTO:-0700
TZNAME:PDT
DTSTART:20240310T100000
END:DAYLIGHT
BEGIN:STANDARD
TZOFFSETFROM:-0700
TZOFFSETTO:-0800
TZNAME:PST
DTSTART:20241103T090000
END:STANDARD
BEGIN:DAYLIGHT
TZOFFSETFROM:-0800
TZOFFSETTO:-0700
TZNAME:PDT
DTSTART:20250309T100000
END:DAYLIGHT
BEGIN:STANDARD
TZOFFSETFROM:-0700
TZOFFSETTO:-0800
TZNAME:PST
DTSTART:20251102T090000
END:STANDARD
BEGIN:DAYLIGHT
TZOFFSETFROM:-0800
TZOFFSETTO:-0700
TZNAME:PDT
DTSTART:20260308T100000
END:DAYLIGHT
BEGIN:STANDARD
TZOFFSETFROM:-0700
TZOFFSETTO:-0800
TZNAME:PST
DTSTART:20261101T090000
END:STANDARD
BEGIN:DAYLIGHT
TZOFFSETFROM:-0800
TZOFFSETTO:-0700
TZNAME:PDT
DTSTART:20270314T100000
END:DAYLIGHT
BEGIN:STANDARD
TZOFFSETFROM:-0700
TZOFFSETTO:-0800
TZNAME:PST
DTSTART:20271107T090000
END:STANDARD
END:VTIMEZONE
BEGIN:VEVENT
DTSTART;VALUE=DATE:20260414
DTEND;VALUE=DATE:20260418
DTSTAMP:20260421T115421
CREATED:20250114T231036Z
LAST-MODIFIED:20260416T173456Z
UID:13195-1776124800-1776470399@ffburn.org
SUMMARY:American Burn Association Annual Meeting
DESCRIPTION:The American Burn Association Annual Meeting supports rehabilitation research and helps medical burn team professionals attend the annual conference.
URL:https://ffburn.org/event/american-burn-association-scholarship-program/
ATTACH;FMTTYPE=image/jpeg:https://ffburn.org/wp-content/uploads/2024/12/American-Burn-Association-Scholarship-Program.jpg
END:VEVENT
BEGIN:VEVENT
DTSTART;VALUE=DATE:20251112
DTEND;VALUE=DATE:20251115
DTSTAMP:20260421T115421
CREATED:20250114T230946Z
LAST-MODIFIED:20250115T025010Z
UID:13194-1762905600-1763164799@ffburn.org
SUMMARY:World Burn Congress Scholarship Program
DESCRIPTION:World Burn Congress\, hosted by the Phoenix Society\, is a multi-day in-person event held every other year.
URL:https://ffburn.org/event/world-burn-congress-scholarship-program/
ATTACH;FMTTYPE=image/jpeg:https://ffburn.org/wp-content/uploads/2024/12/World-Burn-Congress-Scholarship-Program.jpg
END:VEVENT
BEGIN:VEVENT
DTSTART;VALUE=DATE:20251018
DTEND;VALUE=DATE:20251019
DTSTAMP:20260421T115421
CREATED:20250117T193803Z
LAST-MODIFIED:20250117T222353Z
UID:13289-1760745600-1760831999@ffburn.org
SUMMARY:Pickleball Tournament
DESCRIPTION:Join us at Johnson Ranch Sports Club – South for a charity pickleball tournament benefiting the Firefighters Burn Institute.
URL:https://ffburn.org/event/pickleball-tournament/
LOCATION:2600 Eureka Rd\, Roseville\, CA 95661\, 2600 Eureka Rd\, Roseville\, CA\, 95661\, United States
ATTACH;FMTTYPE=image/jpeg:https://ffburn.org/wp-content/uploads/2025/01/Pickleball-Women-scaled.jpg
END:VEVENT
BEGIN:VEVENT
DTSTART;VALUE=DATE:20251005
DTEND;VALUE=DATE:20251012
DTSTAMP:20260421T115421
CREATED:20250114T231442Z
LAST-MODIFIED:20250120T155146Z
UID:13201-1759622400-1760227199@ffburn.org
SUMMARY:Fire Prevention Week
DESCRIPTION:The Firefighters Burn Institute is proud to partner with the National Fire Protection Association each year to promote and observe Fire Prevention Week.
URL:https://ffburn.org/event/fire-prevention-week/
ATTACH;FMTTYPE=image/gif:https://ffburn.org/wp-content/uploads/2025/01/logo-nfpa-fire-prevention-week.gif
END:VEVENT
BEGIN:VEVENT
DTSTART;VALUE=DATE:20250620
DTEND;VALUE=DATE:20250628
DTSTAMP:20260421T115421
CREATED:20250114T230536Z
LAST-MODIFIED:20250115T025010Z
UID:13189-1750377600-1751068799@ffburn.org
SUMMARY:Firefighters Kids Camp
DESCRIPTION:Firefighters Kids Camp is an annual program designed to benefit young burn survivors.
URL:https://ffburn.org/event/firefighters-kids-camp/
ATTACH;FMTTYPE=image/jpeg:https://ffburn.org/wp-content/uploads/2024/11/ffbi-carousel-02.jpg
END:VEVENT
BEGIN:VEVENT
DTSTART;VALUE=DATE:20260424
DTEND;VALUE=DATE:20260427
DTSTAMP:20260421T115421
CREATED:20250114T230849Z
LAST-MODIFIED:20260416T173148Z
UID:13192-1776988800-1777247999@ffburn.org
SUMMARY:Adult Burn Survivor Recovery Retreat
DESCRIPTION:Adult Burn Survivor Recovery Retreat is a chance to heal\, connect\, and find support with those who understand your journey
URL:https://ffburn.org/event/adult-burn-survivor-recovery-retreat/
ATTACH;FMTTYPE=image/jpeg:https://ffburn.org/wp-content/uploads/2024/12/Adult-Burn-Survivor-Recovery-Retreat-scaled.jpg
END:VEVENT
BEGIN:VEVENT
DTSTART;VALUE=DATE:20250326
DTEND;VALUE=DATE:20250327
DTSTAMP:20260421T115421
CREATED:20250115T173803Z
LAST-MODIFIED:20250115T173803Z
UID:13259-1742947200-1743033599@ffburn.org
SUMMARY:Youth Firesetter Program​
DESCRIPTION:The Youth Firesetter Program (YFP) is an intervention program for youth (ages 5-17) who demonstrate a tendency to misuse fire. The program is led by fire\, probation\, burn and healthcare professionals who provide a coordinated effort in helping youth firesetters and their families receive the assistance they need through assessments\, psychological referrals\, and education.
URL:https://ffburn.org/event/youth-firesetter-program-march-26/
ATTACH;FMTTYPE=image/jpeg:https://ffburn.org/wp-content/uploads/2024/12/Youth-Firesetter-Program.jpg
END:VEVENT
BEGIN:VEVENT
DTSTART;VALUE=DATE:20250319
DTEND;VALUE=DATE:20250320
DTSTAMP:20260421T115421
CREATED:20250115T173653Z
LAST-MODIFIED:20250115T173707Z
UID:13258-1742342400-1742428799@ffburn.org
SUMMARY:Youth Firesetter Program​
DESCRIPTION:The Youth Firesetter Program (YFP) is an intervention program for youth (ages 5-17) who demonstrate a tendency to misuse fire. The program is led by fire\, probation\, burn and healthcare professionals who provide a coordinated effort in helping youth firesetters and their families receive the assistance they need through assessments\, psychological referrals\, and education.
URL:https://ffburn.org/event/youth-firesetter-program-march-19/
ATTACH;FMTTYPE=image/jpeg:https://ffburn.org/wp-content/uploads/2024/12/Youth-Firesetter-Program.jpg
END:VEVENT
BEGIN:VEVENT
DTSTART;VALUE=DATE:20250312
DTEND;VALUE=DATE:20250313
DTSTAMP:20260421T115421
CREATED:20250114T231132Z
LAST-MODIFIED:20250115T173726Z
UID:13196-1741737600-1741823999@ffburn.org
SUMMARY:Youth Firesetter Program​
DESCRIPTION:The Youth Firesetter Program (YFP) is an intervention program for youth (ages 5-17) who demonstrate a tendency to misuse fire. The program is led by fire\, probation\, burn and healthcare professionals who provide a coordinated effort in helping youth firesetters and their families receive the assistance they need through assessments\, psychological referrals\, and education.
URL:https://ffburn.org/event/youth-firesetter-program-march-12/
ATTACH;FMTTYPE=image/jpeg:https://ffburn.org/wp-content/uploads/2024/12/Youth-Firesetter-Program.jpg
END:VEVENT
BEGIN:VEVENT
DTSTART;VALUE=DATE:20250205
DTEND;VALUE=DATE:20250209
DTSTAMP:20260421T115421
CREATED:20241210T213249Z
LAST-MODIFIED:20250115T171955Z
UID:657-1738713600-1739059199@ffburn.org
SUMMARY:Firefighters "Fill the Boot for Burns" Boot Drive
DESCRIPTION:Hundreds of firefighters volunteer each year to collect donations in their boots during the annual “Fill the Boot for Burns” fundraiser.
URL:https://ffburn.org/event/firefighters-fill-the-boot-for-burns-boot-drive/
LOCATION:Sunrise Blvd. & Greenback Ln. in Citrus Heights\, CA\, Citrus Heights\, CA\, 95610\, United States
ATTACH;FMTTYPE=image/jpeg:https://ffburn.org/wp-content/uploads/2024/12/Group-Shot-Firefighters-scaled.jpg
END:VEVENT
BEGIN:VEVENT
DTSTART;VALUE=DATE:20250202
DTEND;VALUE=DATE:20250209
DTSTAMP:20260421T115421
CREATED:20250114T231356Z
LAST-MODIFIED:20250115T025010Z
UID:13199-1738454400-1739059199@ffburn.org
SUMMARY:National Burn Awareness Week
DESCRIPTION:National Burn Awareness Week is an important annual observance dedicated to educating the public about burn prevention and safety.
URL:https://ffburn.org/event/national-burn-awareness-week/
END:VEVENT
END:VCALENDAR