BEGIN:VCALENDAR
VERSION:2.0
PRODID:-//Firefighters Burn Institute - ECPv6.15.17//NONSGML v1.0//EN
CALSCALE:GREGORIAN
METHOD:PUBLISH
X-ORIGINAL-URL:https://ffburn.org
X-WR-CALDESC:Events for Firefighters Burn Institute
REFRESH-INTERVAL;VALUE=DURATION:PT1H
X-Robots-Tag:noindex
X-PUBLISHED-TTL:PT1H
BEGIN:VTIMEZONE
TZID:America/Los_Angeles
BEGIN:DAYLIGHT
TZOFFSETFROM:-0800
TZOFFSETTO:-0700
TZNAME:PDT
DTSTART:20250309T100000
END:DAYLIGHT
BEGIN:STANDARD
TZOFFSETFROM:-0700
TZOFFSETTO:-0800
TZNAME:PST
DTSTART:20251102T090000
END:STANDARD
BEGIN:DAYLIGHT
TZOFFSETFROM:-0800
TZOFFSETTO:-0700
TZNAME:PDT
DTSTART:20260308T100000
END:DAYLIGHT
BEGIN:STANDARD
TZOFFSETFROM:-0700
TZOFFSETTO:-0800
TZNAME:PST
DTSTART:20261101T090000
END:STANDARD
BEGIN:DAYLIGHT
TZOFFSETFROM:-0800
TZOFFSETTO:-0700
TZNAME:PDT
DTSTART:20270314T100000
END:DAYLIGHT
BEGIN:STANDARD
TZOFFSETFROM:-0700
TZOFFSETTO:-0800
TZNAME:PST
DTSTART:20271107T090000
END:STANDARD
END:VTIMEZONE
BEGIN:VEVENT
DTSTART;VALUE=DATE:20260501
DTEND;VALUE=DATE:20260502
DTSTAMP:20260422T021651
CREATED:20241210T195759Z
LAST-MODIFIED:20260416T173208Z
UID:640-1777593600-1777679999@ffburn.org
SUMMARY:Big Day of Giving
DESCRIPTION:Big Day of Giving is a 24-hour challenge to help local nonprofits raise funds and support the Sacramento region.
URL:https://ffburn.org/event/big-day-of-giving/
ATTACH;FMTTYPE=image/jpeg:https://ffburn.org/wp-content/uploads/2025/01/FB-Cover-Thank-You-3.jpg
END:VEVENT
BEGIN:VEVENT
DTSTART;VALUE=DATE:20260511
DTEND;VALUE=DATE:20260512
DTSTAMP:20260422T021651
CREATED:20241210T200243Z
LAST-MODIFIED:20260416T170531Z
UID:641-1778457600-1778543999@ffburn.org
SUMMARY:Birdies for Burns Golf Tournament
DESCRIPTION:Birdies for Burns is a charity golf tournament at Catta Verdera Country Club benefiting the Firefighters Burn Institute.
URL:https://ffburn.org/event/birdies-for-burns-golf-tournament/
LOCATION:Catta Verdera Country Club\, 1111 Catta Verdera\, Lincoln\, CA\, 95648\, United States
ATTACH;FMTTYPE=image/jpeg:https://ffburn.org/wp-content/uploads/2024/12/Team-FFBI-scaled.jpg
END:VEVENT
BEGIN:VEVENT
DTSTART;TZID=America/Los_Angeles:20260620T200000
DTEND;TZID=America/Los_Angeles:20260620T200000
DTSTAMP:20260422T021651
CREATED:20260416T174615Z
LAST-MODIFIED:20260416T174838Z
UID:13627-1781985600-1781985600@ffburn.org
SUMMARY:Up Close & Personal with Billy Bob Thornton & The Boxmasters “2026 Morro Rock Tour”
DESCRIPTION:Founded by Billy Bob Thornton and J.D. Andrew\, The Boxmasters deliver a high-energy blend of roots rock\, country\, and British Invasion-inspired sound. Known for sharp songwriting\, rich harmonies\, and dynamic live shows\, the band has built a loyal following through relentless touring and an impressive catalog of acclaimed releases. Equal parts vintage cool and modern edge\, The Boxmasters bring a one-of-a-kind concert experience to every stage.
URL:https://ffburn.org/event/up-close-personal-with-billy-bob-thornton-the-boxmasters-2026-morro-rock-tour/
LOCATION:The Boardwalk\, 9426 Greenback Lane\, Orangevale\, 95662\, United States
ATTACH;FMTTYPE=image/png:https://ffburn.org/wp-content/uploads/2026/04/BBT-Boxmasters-Social-w-benefit-7.375-x-4.9375-in.png
END:VEVENT
BEGIN:VEVENT
DTSTART;VALUE=DATE:20260717
DTEND;VALUE=DATE:20260803
DTSTAMP:20260422T021651
CREATED:20250114T231306Z
LAST-MODIFIED:20260416T173126Z
UID:13198-1784246400-1785715199@ffburn.org
SUMMARY:Camp Smokey
DESCRIPTION:Each participant will learn about home fire safety\, wildfire safety\, responsible recreation\, the history of Smokey the Bear\, traditional Native American uses of fire and fire’s role in nature.
URL:https://ffburn.org/event/camp-smokey/
ATTACH;FMTTYPE=image/jpeg:https://ffburn.org/wp-content/uploads/2024/11/prevention-and-education.jpg
END:VEVENT
BEGIN:VEVENT
DTSTART;TZID=America/Los_Angeles:20260808T170000
DTEND;TZID=America/Los_Angeles:20260808T200000
DTSTAMP:20260422T021651
CREATED:20260416T174505Z
LAST-MODIFIED:20260416T175256Z
UID:13625-1786208400-1786219200@ffburn.org
SUMMARY:Bogle Gives Back
DESCRIPTION:
URL:https://ffburn.org/event/bogle-gives-back/
LOCATION:Bogle WInery\, 37783 Co Rd 144\,\, Clarksburg\, CA\, 95612\, United States
ATTACH;FMTTYPE=image/jpeg:https://ffburn.org/wp-content/uploads/2026/04/0834_002_BFV_BGB-Fire-Graphic_final_Tock-copy.jpg
END:VEVENT
BEGIN:VEVENT
DTSTART;TZID=America/Los_Angeles:20260822T100000
DTEND;TZID=America/Los_Angeles:20260822T160000
DTSTAMP:20260422T021651
CREATED:20241210T211047Z
LAST-MODIFIED:20260416T174945Z
UID:655-1787392800-1787414400@ffburn.org
SUMMARY:Cornhole Tournament
DESCRIPTION:Join us for our 3rd Annual Cornhole Tournament! \n\nCompetitive and non-competitive divisions\nFamily & dog friendly\nDelicious drinks for purchase from Movement Brewing\nTournament hosted by the California Cornhole Association
URL:https://ffburn.org/event/cornhole-tournament/
LOCATION:Movement Brewing\, 11151 Trade Center Dr\, Rancho Cordova\, 95670\, United States
ATTACH;FMTTYPE=image/jpeg:https://ffburn.org/wp-content/uploads/2024/12/Cornhole.jpg
END:VEVENT
BEGIN:VEVENT
DTSTART;TZID=America/Los_Angeles:20260926T120000
DTEND;TZID=America/Los_Angeles:20260926T160000
DTSTAMP:20260422T021651
CREATED:20250610T184147Z
LAST-MODIFIED:20260416T173027Z
UID:13447-1790424000-1790438400@ffburn.org
SUMMARY:Heroes\, Hops & Hot Rods
DESCRIPTION:Co-hosted with Bertolucci’s Auto Body Shop and SacYard Community Tap House\, this event is an amazing day full of a car show\, drinks\, food\, live music\, dancing and more\, all for a great cause! Join us for an unforgettable afternoon that honors our local history\, vibrant culture\, and the first responders who keep us safe.
URL:https://ffburn.org/event/heroes-hops-and-hot-rods-sacramento-2025/
LOCATION:1725 33rd Street\, Sacramento\, CA\, United States
ATTACH;FMTTYPE=image/jpeg:https://ffburn.org/wp-content/uploads/2025/06/MyYzhpCQ-scaled.jpeg
END:VEVENT
BEGIN:VEVENT
DTSTART;VALUE=DATE:20261023
DTEND;VALUE=DATE:20261026
DTSTAMP:20260422T021651
CREATED:20250114T230744Z
LAST-MODIFIED:20260416T170621Z
UID:13190-1792713600-1792972799@ffburn.org
SUMMARY:Little Heroes Family Burn Camp
DESCRIPTION:Little Heroes Family Burn Camp is a recovery program for young burn survivors (ages 1-6) and their families. Come play and grow together!
URL:https://ffburn.org/event/little-heroes-family-burn-camp/
ATTACH;FMTTYPE=image/jpeg:https://ffburn.org/wp-content/uploads/2024/12/Little-Heroes-Family-Burn-Camp-scaled.jpg
END:VEVENT
BEGIN:VEVENT
DTSTART;TZID=America/Los_Angeles:20261106T190000
DTEND;TZID=America/Los_Angeles:20261106T230000
DTSTAMP:20260422T021651
CREATED:20260416T173719Z
LAST-MODIFIED:20260416T173719Z
UID:13623-1793991600-1794006000@ffburn.org
SUMMARY:Casino Night
DESCRIPTION:
URL:https://ffburn.org/event/casino-night/
LOCATION:Elks Tower\, 921 11th St\, Sacramento\, CA\, 95814\, United States
END:VEVENT
END:VCALENDAR